BEGIN:VCALENDAR
VERSION:2.0
PRODID:-//Orange County Audubon Society - ECPv6.15.20//NONSGML v1.0//EN
CALSCALE:GREGORIAN
METHOD:PUBLISH
X-WR-CALNAME:Orange County Audubon Society
X-ORIGINAL-URL:https://www.orangecountyaudubonsociety.org
X-WR-CALDESC:Events for Orange County Audubon Society
REFRESH-INTERVAL;VALUE=DURATION:PT1H
X-Robots-Tag:noindex
X-PUBLISHED-TTL:PT1H
BEGIN:VTIMEZONE
TZID:America/New_York
BEGIN:DAYLIGHT
TZOFFSETFROM:-0500
TZOFFSETTO:-0400
TZNAME:EDT
DTSTART:20240310T070000
END:DAYLIGHT
BEGIN:STANDARD
TZOFFSETFROM:-0400
TZOFFSETTO:-0500
TZNAME:EST
DTSTART:20241103T060000
END:STANDARD
BEGIN:DAYLIGHT
TZOFFSETFROM:-0500
TZOFFSETTO:-0400
TZNAME:EDT
DTSTART:20250309T070000
END:DAYLIGHT
BEGIN:STANDARD
TZOFFSETFROM:-0400
TZOFFSETTO:-0500
TZNAME:EST
DTSTART:20251102T060000
END:STANDARD
BEGIN:DAYLIGHT
TZOFFSETFROM:-0500
TZOFFSETTO:-0400
TZNAME:EDT
DTSTART:20260308T070000
END:DAYLIGHT
BEGIN:STANDARD
TZOFFSETFROM:-0400
TZOFFSETTO:-0500
TZNAME:EST
DTSTART:20261101T060000
END:STANDARD
END:VTIMEZONE
BEGIN:VEVENT
DTSTART;TZID=America/New_York:20250505T173000
DTEND;TZID=America/New_York:20250505T183000
DTSTAMP:20260423T063847
CREATED:20250106T192321Z
LAST-MODIFIED:20250106T192321Z
UID:5104-1746466200-1746469800@www.orangecountyaudubonsociety.org
SUMMARY:The Anthropocene (short presentation) & Climbing the Stairs of the Evolution of Life & the History of Earth
DESCRIPTION:Professor Jahn will give an introductory lecture of explanation on the Concept of the Prehistoric Stairway: Evolution of Life – Biology coupled with History of the Earth – Geology. Then\, he will lead us on a short walk down the hallway to the back staircase. You will be invited to “Climb on the Prehistoric Stairway with each step marching you through the evolution of life and geologic history”. You may go at your own page under the guidance of the professor.
URL:https://www.orangecountyaudubonsociety.org/event/the-anthropocene-short-presentation-climbing-the-stairs-of-the-evolution-of-life-the-history-of-earth/
END:VEVENT
END:VCALENDAR