BEGIN:VCALENDAR
VERSION:2.0
PRODID:-//Orange County Audubon Society - ECPv6.15.20//NONSGML v1.0//EN
CALSCALE:GREGORIAN
METHOD:PUBLISH
X-ORIGINAL-URL:https://www.orangecountyaudubonsociety.org
X-WR-CALDESC:Events for Orange County Audubon Society
REFRESH-INTERVAL;VALUE=DURATION:PT1H
X-Robots-Tag:noindex
X-PUBLISHED-TTL:PT1H
BEGIN:VTIMEZONE
TZID:America/New_York
BEGIN:DAYLIGHT
TZOFFSETFROM:-0500
TZOFFSETTO:-0400
TZNAME:EDT
DTSTART:20240310T070000
END:DAYLIGHT
BEGIN:STANDARD
TZOFFSETFROM:-0400
TZOFFSETTO:-0500
TZNAME:EST
DTSTART:20241103T060000
END:STANDARD
BEGIN:DAYLIGHT
TZOFFSETFROM:-0500
TZOFFSETTO:-0400
TZNAME:EDT
DTSTART:20250309T070000
END:DAYLIGHT
BEGIN:STANDARD
TZOFFSETFROM:-0400
TZOFFSETTO:-0500
TZNAME:EST
DTSTART:20251102T060000
END:STANDARD
BEGIN:DAYLIGHT
TZOFFSETFROM:-0500
TZOFFSETTO:-0400
TZNAME:EDT
DTSTART:20260308T070000
END:DAYLIGHT
BEGIN:STANDARD
TZOFFSETFROM:-0400
TZOFFSETTO:-0500
TZNAME:EST
DTSTART:20261101T060000
END:STANDARD
END:VTIMEZONE
BEGIN:VEVENT
DTSTART;TZID=America/New_York:20250530T180000
DTEND;TZID=America/New_York:20250530T190000
DTSTAMP:20260423T103137
CREATED:20250527T154049Z
LAST-MODIFIED:20250527T154049Z
UID:5249-1748628000-1748631600@www.orangecountyaudubonsociety.org
SUMMARY:Field Trip to Knapp's View
DESCRIPTION:Please join the Orange County Audubon Society and Chester Conservation Advisory Council for an evening walk at Knapp’s View on Friday\, May 30th at 6pm. \nBring your binoculars or spotting scopes\, and wear a good pair of walking shoes or boots as the paths tend to be muddy in places. \nIn recent days\, there have been sightings of bobolink\, Eastern meadowlark\, American Kestrel\, song sparrow\, hermit thrush\, Baltimore oriole\, Northern flicker\, and the occasional Bald eagle at Knapp’s View. \nAfter the walk\, join the group at Oceanè for dinner or drinks. \nClick here for a map of Knapp’s View \nFor information about the walk\, email eurekabooksandmore@gmail.com
URL:https://www.orangecountyaudubonsociety.org/event/field-trip-to-knapps-view-2/
END:VEVENT
END:VCALENDAR