BEGIN:VCALENDAR
VERSION:2.0
PRODID:-//Orange County Audubon Society - ECPv6.15.20//NONSGML v1.0//EN
CALSCALE:GREGORIAN
METHOD:PUBLISH
X-WR-CALNAME:Orange County Audubon Society
X-ORIGINAL-URL:https://www.orangecountyaudubonsociety.org
X-WR-CALDESC:Events for Orange County Audubon Society
REFRESH-INTERVAL;VALUE=DURATION:PT1H
X-Robots-Tag:noindex
X-PUBLISHED-TTL:PT1H
BEGIN:VTIMEZONE
TZID:America/New_York
BEGIN:DAYLIGHT
TZOFFSETFROM:-0500
TZOFFSETTO:-0400
TZNAME:EDT
DTSTART:20240310T070000
END:DAYLIGHT
BEGIN:STANDARD
TZOFFSETFROM:-0400
TZOFFSETTO:-0500
TZNAME:EST
DTSTART:20241103T060000
END:STANDARD
BEGIN:DAYLIGHT
TZOFFSETFROM:-0500
TZOFFSETTO:-0400
TZNAME:EDT
DTSTART:20250309T070000
END:DAYLIGHT
BEGIN:STANDARD
TZOFFSETFROM:-0400
TZOFFSETTO:-0500
TZNAME:EST
DTSTART:20251102T060000
END:STANDARD
BEGIN:DAYLIGHT
TZOFFSETFROM:-0500
TZOFFSETTO:-0400
TZNAME:EDT
DTSTART:20260308T070000
END:DAYLIGHT
BEGIN:STANDARD
TZOFFSETFROM:-0400
TZOFFSETTO:-0500
TZNAME:EST
DTSTART:20261101T060000
END:STANDARD
END:VTIMEZONE
BEGIN:VEVENT
DTSTART;TZID=America/New_York:20250623T173000
DTEND;TZID=America/New_York:20250623T183000
DTSTAMP:20260419T112310
CREATED:20250517T170425Z
LAST-MODIFIED:20250528T173943Z
UID:5227-1750699800-1750703400@www.orangecountyaudubonsociety.org
SUMMARY:Geological History & Biological Diversity of the US Southwest
DESCRIPTION:Join Dr. Walter Jahn as he presents the geological history and biological diversity of the US Southwest\, with notes from Grand Canyon\, Dinosaur\, White Sands\, Guadalupe Mountains\, and Carlsbad Caverns National Parks. \nParticipants may join at the SUNY Orange Rowley Center Room 110 or via Zoom at the following link: \nhttps://sunyorange.zoom.us/j/98282281351 \nClick here for a map of the SUNY Orange Rowley Center
URL:https://www.orangecountyaudubonsociety.org/event/geological-history-biological-diversity-of-the-us-southwest/
END:VEVENT
END:VCALENDAR