BEGIN:VCALENDAR
VERSION:2.0
PRODID:-//Orange County Audubon Society - ECPv6.15.20//NONSGML v1.0//EN
CALSCALE:GREGORIAN
METHOD:PUBLISH
X-WR-CALNAME:Orange County Audubon Society
X-ORIGINAL-URL:https://www.orangecountyaudubonsociety.org
X-WR-CALDESC:Events for Orange County Audubon Society
REFRESH-INTERVAL;VALUE=DURATION:PT1H
X-Robots-Tag:noindex
X-PUBLISHED-TTL:PT1H
BEGIN:VTIMEZONE
TZID:America/New_York
BEGIN:DAYLIGHT
TZOFFSETFROM:-0500
TZOFFSETTO:-0400
TZNAME:EDT
DTSTART:20240310T070000
END:DAYLIGHT
BEGIN:STANDARD
TZOFFSETFROM:-0400
TZOFFSETTO:-0500
TZNAME:EST
DTSTART:20241103T060000
END:STANDARD
BEGIN:DAYLIGHT
TZOFFSETFROM:-0500
TZOFFSETTO:-0400
TZNAME:EDT
DTSTART:20250309T070000
END:DAYLIGHT
BEGIN:STANDARD
TZOFFSETFROM:-0400
TZOFFSETTO:-0500
TZNAME:EST
DTSTART:20251102T060000
END:STANDARD
BEGIN:DAYLIGHT
TZOFFSETFROM:-0500
TZOFFSETTO:-0400
TZNAME:EDT
DTSTART:20260308T070000
END:DAYLIGHT
BEGIN:STANDARD
TZOFFSETFROM:-0400
TZOFFSETTO:-0500
TZNAME:EST
DTSTART:20261101T060000
END:STANDARD
END:VTIMEZONE
BEGIN:VEVENT
DTSTART;TZID=America/New_York:20250630T173000
DTEND;TZID=America/New_York:20250630T183000
DTSTAMP:20260423T155229
CREATED:20250517T170602Z
LAST-MODIFIED:20250528T174021Z
UID:5228-1751304600-1751308200@www.orangecountyaudubonsociety.org
SUMMARY:Nature Rocks
DESCRIPTION:Join Dr. Walter Jahn for a musical evening featuring original and parody songs on environmental & wildlife themes played on 10+ instruments.  You’ll laugh!  You’ll learn!  You might sing along! \nParticipants may join at the SUNY Orange Rowley Center Room 110 or via Zoom at the following link: \nhttps://sunyorange.zoom.us/j/98282281351 \nClick here for a map of the Rowley Center
URL:https://www.orangecountyaudubonsociety.org/event/nature-rocks/
END:VEVENT
END:VCALENDAR