BEGIN:VCALENDAR
VERSION:2.0
PRODID:-//Orange County Audubon Society - ECPv6.15.20//NONSGML v1.0//EN
CALSCALE:GREGORIAN
METHOD:PUBLISH
X-WR-CALNAME:Orange County Audubon Society
X-ORIGINAL-URL:https://www.orangecountyaudubonsociety.org
X-WR-CALDESC:Events for Orange County Audubon Society
REFRESH-INTERVAL;VALUE=DURATION:PT1H
X-Robots-Tag:noindex
X-PUBLISHED-TTL:PT1H
BEGIN:VTIMEZONE
TZID:America/New_York
BEGIN:DAYLIGHT
TZOFFSETFROM:-0500
TZOFFSETTO:-0400
TZNAME:EDT
DTSTART:20240310T070000
END:DAYLIGHT
BEGIN:STANDARD
TZOFFSETFROM:-0400
TZOFFSETTO:-0500
TZNAME:EST
DTSTART:20241103T060000
END:STANDARD
BEGIN:DAYLIGHT
TZOFFSETFROM:-0500
TZOFFSETTO:-0400
TZNAME:EDT
DTSTART:20250309T070000
END:DAYLIGHT
BEGIN:STANDARD
TZOFFSETFROM:-0400
TZOFFSETTO:-0500
TZNAME:EST
DTSTART:20251102T060000
END:STANDARD
BEGIN:DAYLIGHT
TZOFFSETFROM:-0500
TZOFFSETTO:-0400
TZNAME:EDT
DTSTART:20260308T070000
END:DAYLIGHT
BEGIN:STANDARD
TZOFFSETFROM:-0400
TZOFFSETTO:-0500
TZNAME:EST
DTSTART:20261101T060000
END:STANDARD
END:VTIMEZONE
BEGIN:VEVENT
DTSTART;TZID=America/New_York:20251011T090000
DTEND;TZID=America/New_York:20251011T103000
DTSTAMP:20260424T051830
CREATED:20250927T164159Z
LAST-MODIFIED:20250927T184851Z
UID:5289-1760173200-1760178600@www.orangecountyaudubonsociety.org
SUMMARY:Norman Brook Walk
DESCRIPTION:After visiting the pond and waterfall\, our small group will walk much of the length of this long\, thin sanctuary as we visit several habitats including wetland short and forest habitat. Recommended hiking shoes and a walking stick; the trail includes an uphill section. Please register by contacting walterjahn@sunyorange.edu given that the size of the group will be limited by the four parking spots available at the entrance of Southwycke Road (parking on the narrow street is not allowed).
URL:https://www.orangecountyaudubonsociety.org/event/normal-brook-walk/
END:VEVENT
END:VCALENDAR