BEGIN:VCALENDAR
VERSION:2.0
PRODID:-//Orange County Audubon Society - ECPv6.15.20//NONSGML v1.0//EN
CALSCALE:GREGORIAN
METHOD:PUBLISH
X-WR-CALNAME:Orange County Audubon Society
X-ORIGINAL-URL:https://www.orangecountyaudubonsociety.org
X-WR-CALDESC:Events for Orange County Audubon Society
REFRESH-INTERVAL;VALUE=DURATION:PT1H
X-Robots-Tag:noindex
X-PUBLISHED-TTL:PT1H
BEGIN:VTIMEZONE
TZID:America/New_York
BEGIN:DAYLIGHT
TZOFFSETFROM:-0500
TZOFFSETTO:-0400
TZNAME:EDT
DTSTART:20240310T070000
END:DAYLIGHT
BEGIN:STANDARD
TZOFFSETFROM:-0400
TZOFFSETTO:-0500
TZNAME:EST
DTSTART:20241103T060000
END:STANDARD
BEGIN:DAYLIGHT
TZOFFSETFROM:-0500
TZOFFSETTO:-0400
TZNAME:EDT
DTSTART:20250309T070000
END:DAYLIGHT
BEGIN:STANDARD
TZOFFSETFROM:-0400
TZOFFSETTO:-0500
TZNAME:EST
DTSTART:20251102T060000
END:STANDARD
BEGIN:DAYLIGHT
TZOFFSETFROM:-0500
TZOFFSETTO:-0400
TZNAME:EDT
DTSTART:20260308T070000
END:DAYLIGHT
BEGIN:STANDARD
TZOFFSETFROM:-0400
TZOFFSETTO:-0500
TZNAME:EST
DTSTART:20261101T060000
END:STANDARD
END:VTIMEZONE
BEGIN:VEVENT
DTSTART;TZID=America/New_York:20251012T100000
DTEND;TZID=America/New_York:20251012T113000
DTSTAMP:20260422T093554
CREATED:20250106T200055Z
LAST-MODIFIED:20250106T200055Z
UID:5125-1760263200-1760268600@www.orangecountyaudubonsociety.org
SUMMARY:Bashakill Bird Walk
DESCRIPTION:Dr. Walter Jahn will lead a bird walk from the boat launch on South Road across from Bashakill Vineyards. \nClick here for a map of the Bashakill Boat Launch
URL:https://www.orangecountyaudubonsociety.org/event/bashakill-bird-walk-6/
END:VEVENT
BEGIN:VEVENT
DTSTART;TZID=America/New_York:20251012T143000
DTEND;TZID=America/New_York:20251012T163000
DTSTAMP:20260422T093554
CREATED:20250927T190958Z
LAST-MODIFIED:20250927T190958Z
UID:5293-1760279400-1760286600@www.orangecountyaudubonsociety.org
SUMMARY:Autumn Colors Kayak
DESCRIPTION:With autumn colors and waterfowl migration at their peak\, October is a great time to kayak on the Bashakill! Kayaks will depart from the boat launch at 2:30pm. If you would like to rent a kayak from MEEC\, please schedule enough time so that you can transport your kayak(s) to the boat launch by that time. (MEEC address: 762 South Rd\, Wurtsboro NY; 845-644-5014).
URL:https://www.orangecountyaudubonsociety.org/event/autumn-colors-kayak/
END:VEVENT
END:VCALENDAR