BEGIN:VCALENDAR
VERSION:2.0
PRODID:-//Orange County Audubon Society - ECPv6.15.20//NONSGML v1.0//EN
CALSCALE:GREGORIAN
METHOD:PUBLISH
X-WR-CALNAME:Orange County Audubon Society
X-ORIGINAL-URL:https://www.orangecountyaudubonsociety.org
X-WR-CALDESC:Events for Orange County Audubon Society
REFRESH-INTERVAL;VALUE=DURATION:PT1H
X-Robots-Tag:noindex
X-PUBLISHED-TTL:PT1H
BEGIN:VTIMEZONE
TZID:America/New_York
BEGIN:DAYLIGHT
TZOFFSETFROM:-0500
TZOFFSETTO:-0400
TZNAME:EDT
DTSTART:20240310T070000
END:DAYLIGHT
BEGIN:STANDARD
TZOFFSETFROM:-0400
TZOFFSETTO:-0500
TZNAME:EST
DTSTART:20241103T060000
END:STANDARD
BEGIN:DAYLIGHT
TZOFFSETFROM:-0500
TZOFFSETTO:-0400
TZNAME:EDT
DTSTART:20250309T070000
END:DAYLIGHT
BEGIN:STANDARD
TZOFFSETFROM:-0400
TZOFFSETTO:-0500
TZNAME:EST
DTSTART:20251102T060000
END:STANDARD
BEGIN:DAYLIGHT
TZOFFSETFROM:-0500
TZOFFSETTO:-0400
TZNAME:EDT
DTSTART:20260308T070000
END:DAYLIGHT
BEGIN:STANDARD
TZOFFSETFROM:-0400
TZOFFSETTO:-0500
TZNAME:EST
DTSTART:20261101T060000
END:STANDARD
END:VTIMEZONE
BEGIN:VEVENT
DTSTART;TZID=America/New_York:20251221T060000
DTEND;TZID=America/New_York:20251221T170000
DTSTAMP:20260423T102231
CREATED:20251113T192200Z
LAST-MODIFIED:20251113T192200Z
UID:5321-1766296800-1766336400@www.orangecountyaudubonsociety.org
SUMMARY:126th Christmas Bird Count
DESCRIPTION:Since 1900 the Audubon Society has annually conducted its Christmas Bird Count. This year will be the 126th and we hope that you will be involved.\n\nWe have officially chosen the date of Sunday\, December 21st to conduct our count. Our geographical region is Southern Orange County\, which is then divided into smaller circles that we will be assigning to groups to do their count.\n\nYou can sign up by yourself or as a group. It is a lot of fun and a great way to get out of the house this winter\, while at the same time providing invaluable research data that can help us keep track of population trends.\n\nFor additional information and/or to register\, email us at:info@orangecountynyaudubon.org\n\nYou may also click here to submit the participant survey.
URL:https://www.orangecountyaudubonsociety.org/event/126th-christmas-bird-count/
END:VEVENT
END:VCALENDAR