BEGIN:VCALENDAR
VERSION:2.0
PRODID:-//Orange County Audubon Society - ECPv6.15.20//NONSGML v1.0//EN
CALSCALE:GREGORIAN
METHOD:PUBLISH
X-ORIGINAL-URL:https://www.orangecountyaudubonsociety.org
X-WR-CALDESC:Events for Orange County Audubon Society
REFRESH-INTERVAL;VALUE=DURATION:PT1H
X-Robots-Tag:noindex
X-PUBLISHED-TTL:PT1H
BEGIN:VTIMEZONE
TZID:America/New_York
BEGIN:DAYLIGHT
TZOFFSETFROM:-0500
TZOFFSETTO:-0400
TZNAME:EDT
DTSTART:20250309T070000
END:DAYLIGHT
BEGIN:STANDARD
TZOFFSETFROM:-0400
TZOFFSETTO:-0500
TZNAME:EST
DTSTART:20251102T060000
END:STANDARD
BEGIN:DAYLIGHT
TZOFFSETFROM:-0500
TZOFFSETTO:-0400
TZNAME:EDT
DTSTART:20260308T070000
END:DAYLIGHT
BEGIN:STANDARD
TZOFFSETFROM:-0400
TZOFFSETTO:-0500
TZNAME:EST
DTSTART:20261101T060000
END:STANDARD
BEGIN:DAYLIGHT
TZOFFSETFROM:-0500
TZOFFSETTO:-0400
TZNAME:EDT
DTSTART:20270314T070000
END:DAYLIGHT
BEGIN:STANDARD
TZOFFSETFROM:-0400
TZOFFSETTO:-0500
TZNAME:EST
DTSTART:20271107T060000
END:STANDARD
END:VTIMEZONE
BEGIN:VEVENT
DTSTART;TZID=America/New_York:20260126T173000
DTEND;TZID=America/New_York:20260126T183000
DTSTAMP:20260422T081449
CREATED:20260107T150035Z
LAST-MODIFIED:20260109T172847Z
UID:5334-1769448600-1769452200@www.orangecountyaudubonsociety.org
SUMMARY:Climate Change 2026: SUNY Orange Bird Talks
DESCRIPTION:The past three years have been the hottest three on record\, and the 14 hottest years in human history have all occurred since 2010. What are the causes & effects for humans and wildlife? What are the causes & effects for humans & wildlife? Participants may join in person at the SUNY Orange Middletown campus\, Rowley Center room 128 or on Zoom at the following link: https://sunyorange.zoom.us/j/99434283633
URL:https://www.orangecountyaudubonsociety.org/event/climate-change-2026-a-suny-orange-presentation/
LOCATION:Rowley Center\, 10 East Conkling Avenue\, Middletown\, NY\, 10940\, United States
END:VEVENT
END:VCALENDAR