BEGIN:VCALENDAR
VERSION:2.0
PRODID:-//Orange County Audubon Society - ECPv6.15.20//NONSGML v1.0//EN
CALSCALE:GREGORIAN
METHOD:PUBLISH
X-WR-CALNAME:Orange County Audubon Society
X-ORIGINAL-URL:https://www.orangecountyaudubonsociety.org
X-WR-CALDESC:Events for Orange County Audubon Society
REFRESH-INTERVAL;VALUE=DURATION:PT1H
X-Robots-Tag:noindex
X-PUBLISHED-TTL:PT1H
BEGIN:VTIMEZONE
TZID:America/New_York
BEGIN:DAYLIGHT
TZOFFSETFROM:-0500
TZOFFSETTO:-0400
TZNAME:EDT
DTSTART:20250309T070000
END:DAYLIGHT
BEGIN:STANDARD
TZOFFSETFROM:-0400
TZOFFSETTO:-0500
TZNAME:EST
DTSTART:20251102T060000
END:STANDARD
BEGIN:DAYLIGHT
TZOFFSETFROM:-0500
TZOFFSETTO:-0400
TZNAME:EDT
DTSTART:20260308T070000
END:DAYLIGHT
BEGIN:STANDARD
TZOFFSETFROM:-0400
TZOFFSETTO:-0500
TZNAME:EST
DTSTART:20261101T060000
END:STANDARD
BEGIN:DAYLIGHT
TZOFFSETFROM:-0500
TZOFFSETTO:-0400
TZNAME:EDT
DTSTART:20270314T070000
END:DAYLIGHT
BEGIN:STANDARD
TZOFFSETFROM:-0400
TZOFFSETTO:-0500
TZNAME:EST
DTSTART:20271107T060000
END:STANDARD
END:VTIMEZONE
BEGIN:VEVENT
DTSTART;TZID=America/New_York:20260420T173000
DTEND;TZID=America/New_York:20260420T183000
DTSTAMP:20260420T060011
CREATED:20260211T174942Z
LAST-MODIFIED:20260211T174942Z
UID:5368-1776706200-1776709800@www.orangecountyaudubonsociety.org
SUMMARY:Songbird Migration: SUNY Orange Bird Series by Dr. Walter Jahn
DESCRIPTION:A celebration of the spring songbirds returning to and migrating through our area with their bright colors and courtship songs. Participants may join in person at the SUNY Orange Middletown campus\, Rowley Center room 128 or on Zoom at the following link: https://sunyorange.zoom.us/j/99434283633
URL:https://www.orangecountyaudubonsociety.org/event/songbird-migration-suny-orange-bird-series-by-dr-walter-jahn/
LOCATION:Rowley Center\, 10 East Conkling Avenue\, Middletown\, NY\, 10940\, United States
END:VEVENT
BEGIN:VEVENT
DTSTART;TZID=America/New_York:20260420T193000
DTEND;TZID=America/New_York:20260420T203000
DTSTAMP:20260420T060011
CREATED:20260407T161552Z
LAST-MODIFIED:20260409T185133Z
UID:5446-1776713400-1776717000@www.orangecountyaudubonsociety.org
SUMMARY:How to Tell a Story With Wildlife Photography
DESCRIPTION:A Zoom presentation by wildlife photographer\, conservationist\, and social media expert Preeti Desai. \nPhotographers often want their images to look beautiful and carry meaning. But how does one add emotional and ecological depth to bird\, insect\, and other wildlife photos? This hour-long virtual talk will focus on photography that connects viewers to places\, sparks empathy\, inspires action\, and reveals the quiet truths of the natural world. The event is free and open to the public\, but you must register in advance at this Zoom link. If you have any accessibility requests\, please email info@orangecountynyaudubon.org by April 15. \nPreeti Desai is a nature photographer who is passionate about wildlife\, conservation\, and science. She uses photography and videography thoughtfully to inspire and motivate people to appreciate and protect birds. Preeti volunteers with the Feminist Bird Club of Jersey City and Jersey City Birds. Her work has been published by Audubon\, Hemispheres\, and Time\, among others. You can find her on Instagram @preetalina or preetalina.com.
URL:https://www.orangecountyaudubonsociety.org/event/how-to-tell-a-story-with-wildlife-photography/
LOCATION:Virtual
END:VEVENT
END:VCALENDAR