BEGIN:VCALENDAR
VERSION:2.0
PRODID:-//Orange County Audubon Society - ECPv6.15.20//NONSGML v1.0//EN
CALSCALE:GREGORIAN
METHOD:PUBLISH
X-WR-CALNAME:Orange County Audubon Society
X-ORIGINAL-URL:https://www.orangecountyaudubonsociety.org
X-WR-CALDESC:Events for Orange County Audubon Society
REFRESH-INTERVAL;VALUE=DURATION:PT1H
X-Robots-Tag:noindex
X-PUBLISHED-TTL:PT1H
BEGIN:VTIMEZONE
TZID:America/New_York
BEGIN:DAYLIGHT
TZOFFSETFROM:-0500
TZOFFSETTO:-0400
TZNAME:EDT
DTSTART:20250309T070000
END:DAYLIGHT
BEGIN:STANDARD
TZOFFSETFROM:-0400
TZOFFSETTO:-0500
TZNAME:EST
DTSTART:20251102T060000
END:STANDARD
BEGIN:DAYLIGHT
TZOFFSETFROM:-0500
TZOFFSETTO:-0400
TZNAME:EDT
DTSTART:20260308T070000
END:DAYLIGHT
BEGIN:STANDARD
TZOFFSETFROM:-0400
TZOFFSETTO:-0500
TZNAME:EST
DTSTART:20261101T060000
END:STANDARD
BEGIN:DAYLIGHT
TZOFFSETFROM:-0500
TZOFFSETTO:-0400
TZNAME:EDT
DTSTART:20270314T070000
END:DAYLIGHT
BEGIN:STANDARD
TZOFFSETFROM:-0400
TZOFFSETTO:-0500
TZNAME:EST
DTSTART:20271107T060000
END:STANDARD
END:VTIMEZONE
BEGIN:VEVENT
DTSTART;TZID=America/New_York:20260422T160000
DTEND;TZID=America/New_York:20260422T190000
DTSTAMP:20260423T090828
CREATED:20260407T152912Z
LAST-MODIFIED:20260407T152940Z
UID:5443-1776873600-1776884400@www.orangecountyaudubonsociety.org
SUMMARY:Earth Day Sanctuary Cleanup
DESCRIPTION:Celebrate Earth Day by helping Orange County Audubon Society clean up a beloved sanctuary. We will meet at the 6 ½ Station Sanctuary kiosk (rather than at the Heritage Trail) and start with a walk along the nature trails to  the observation platform. After\, we will spend some time clearing invasive species such as autumn olive\, multiflora rose\, and Japanese honeysuckle from the sanctuary fields. Work tools will be provided. Bring sturdy shoes and plenty of water and be sure to check for ticks before going home. \nPlease email info@orangecountynyaudubon.org to register as parking is limited. \nNote: If you have a 2026 OCAS calendar\, this cleanup replaces the one originally scheduled for April 18th.
URL:https://www.orangecountyaudubonsociety.org/event/earth-day-sanctuary-cleanup/
LOCATION:6 1/2 Station Sanctuary\, 88 6 1/2 Station Road\, Goshen\, NY\, 10924\, United States
END:VEVENT
END:VCALENDAR