BEGIN:VCALENDAR
VERSION:2.0
PRODID:-//Orange County Audubon Society - ECPv6.15.20//NONSGML v1.0//EN
CALSCALE:GREGORIAN
METHOD:PUBLISH
X-WR-CALNAME:Orange County Audubon Society
X-ORIGINAL-URL:https://www.orangecountyaudubonsociety.org
X-WR-CALDESC:Events for Orange County Audubon Society
REFRESH-INTERVAL;VALUE=DURATION:PT1H
X-Robots-Tag:noindex
X-PUBLISHED-TTL:PT1H
BEGIN:VTIMEZONE
TZID:America/New_York
BEGIN:DAYLIGHT
TZOFFSETFROM:-0500
TZOFFSETTO:-0400
TZNAME:EDT
DTSTART:20220313T070000
END:DAYLIGHT
BEGIN:STANDARD
TZOFFSETFROM:-0400
TZOFFSETTO:-0500
TZNAME:EST
DTSTART:20221106T060000
END:STANDARD
BEGIN:DAYLIGHT
TZOFFSETFROM:-0500
TZOFFSETTO:-0400
TZNAME:EDT
DTSTART:20230312T070000
END:DAYLIGHT
BEGIN:STANDARD
TZOFFSETFROM:-0400
TZOFFSETTO:-0500
TZNAME:EST
DTSTART:20231105T060000
END:STANDARD
BEGIN:DAYLIGHT
TZOFFSETFROM:-0500
TZOFFSETTO:-0400
TZNAME:EDT
DTSTART:20240310T070000
END:DAYLIGHT
BEGIN:STANDARD
TZOFFSETFROM:-0400
TZOFFSETTO:-0500
TZNAME:EST
DTSTART:20241103T060000
END:STANDARD
END:VTIMEZONE
BEGIN:VEVENT
DTSTART;TZID=America/New_York:20231101T180000
DTEND;TZID=America/New_York:20231101T190000
DTSTAMP:20260422T052644
CREATED:20230912T153531Z
LAST-MODIFIED:20230912T153531Z
UID:4813-1698861600-1698865200@www.orangecountyaudubonsociety.org
SUMMARY:Winterizing Your Garden at Thrall Library
DESCRIPTION:As fall approaches\, many of us start thinking about cleaning up our yards & gardens. Following five simple steps can help turn your garden into a winter haven for birds and pollinators! Learn about each step and how birds and pollinators utilize our gardens throughout fall and winter. Presented by environmental educator Pam Golben. \nThis program is free and open to the public. No registration required! Click here for a map of Thrall Library.
URL:https://www.orangecountyaudubonsociety.org/event/winterizing-your-garden-at-thrall-library/
END:VEVENT
BEGIN:VEVENT
DTSTART;TZID=America/New_York:20231111T140000
DTEND;TZID=America/New_York:20231111T160000
DTSTAMP:20260422T052644
CREATED:20230923T175458Z
LAST-MODIFIED:20230923T175715Z
UID:4815-1699711200-1699718400@www.orangecountyaudubonsociety.org
SUMMARY:Birds of Prey with the Delaware Valley Raptor Center
DESCRIPTION:Orange County Audubon Society is excited to present Birds of Prey\, a raptor presentation offered in collaboration with the Delaware Valley Raptor Center. This event is free and open to the public\, and all are welcome! \nClick here for map of Mountain Lake Park\, Warwick NY \nEmail info@orangecountynyaudubon.org for more information.
URL:https://www.orangecountyaudubonsociety.org/event/birds-of-prey-with-the-delaware-valley-raptor-center/
LOCATION:mountain lake park\, 46 Bowen Rd\, Warwick\, NY\, 10990\, United States
END:VEVENT
BEGIN:VEVENT
DTSTART;TZID=America/New_York:20231113T173000
DTEND;TZID=America/New_York:20231113T183000
DTSTAMP:20260422T052644
CREATED:20231030T133229Z
LAST-MODIFIED:20231030T133229Z
UID:4836-1699896600-1699900200@www.orangecountyaudubonsociety.org
SUMMARY:Climb the Prehistoric Staircase
DESCRIPTION:Join biology professor Dr. Walter Jahn for an active and interesting evening of learning science in a relaxed atmosphere.\n\nThis presentation will begin with a short presentation in Rowley Center room 017 and proceed through a staircase depiction of a walk through the geologic history of the earth. You will be invited to “Climb on the Prehistoric Stairway with each step marching you through the evolution of life and geologic history.”\n\nYou may go at your own pace under the guidance of Dr. Jahn.
URL:https://www.orangecountyaudubonsociety.org/event/climb-the-prehistoric-staircase/
END:VEVENT
END:VCALENDAR