BEGIN:VCALENDAR
VERSION:2.0
PRODID:-//Orange County Audubon Society - ECPv6.15.20//NONSGML v1.0//EN
CALSCALE:GREGORIAN
METHOD:PUBLISH
X-WR-CALNAME:Orange County Audubon Society
X-ORIGINAL-URL:https://www.orangecountyaudubonsociety.org
X-WR-CALDESC:Events for Orange County Audubon Society
REFRESH-INTERVAL;VALUE=DURATION:PT1H
X-Robots-Tag:noindex
X-PUBLISHED-TTL:PT1H
BEGIN:VTIMEZONE
TZID:America/New_York
BEGIN:DAYLIGHT
TZOFFSETFROM:-0500
TZOFFSETTO:-0400
TZNAME:EDT
DTSTART:20240310T070000
END:DAYLIGHT
BEGIN:STANDARD
TZOFFSETFROM:-0400
TZOFFSETTO:-0500
TZNAME:EST
DTSTART:20241103T060000
END:STANDARD
BEGIN:DAYLIGHT
TZOFFSETFROM:-0500
TZOFFSETTO:-0400
TZNAME:EDT
DTSTART:20250309T070000
END:DAYLIGHT
BEGIN:STANDARD
TZOFFSETFROM:-0400
TZOFFSETTO:-0500
TZNAME:EST
DTSTART:20251102T060000
END:STANDARD
BEGIN:DAYLIGHT
TZOFFSETFROM:-0500
TZOFFSETTO:-0400
TZNAME:EDT
DTSTART:20260308T070000
END:DAYLIGHT
BEGIN:STANDARD
TZOFFSETFROM:-0400
TZOFFSETTO:-0500
TZNAME:EST
DTSTART:20261101T060000
END:STANDARD
END:VTIMEZONE
BEGIN:VEVENT
DTSTART;TZID=America/New_York:20250505T173000
DTEND;TZID=America/New_York:20250505T183000
DTSTAMP:20260425T143952
CREATED:20250106T192321Z
LAST-MODIFIED:20250106T192321Z
UID:5104-1746466200-1746469800@www.orangecountyaudubonsociety.org
SUMMARY:The Anthropocene (short presentation) & Climbing the Stairs of the Evolution of Life & the History of Earth
DESCRIPTION:Professor Jahn will give an introductory lecture of explanation on the Concept of the Prehistoric Stairway: Evolution of Life – Biology coupled with History of the Earth – Geology. Then\, he will lead us on a short walk down the hallway to the back staircase. You will be invited to “Climb on the Prehistoric Stairway with each step marching you through the evolution of life and geologic history”. You may go at your own page under the guidance of the professor.
URL:https://www.orangecountyaudubonsociety.org/event/the-anthropocene-short-presentation-climbing-the-stairs-of-the-evolution-of-life-the-history-of-earth/
END:VEVENT
BEGIN:VEVENT
DTSTART;TZID=America/New_York:20250506T160000
DTEND;TZID=America/New_York:20250506T173000
DTSTAMP:20260425T143952
CREATED:20250106T195303Z
LAST-MODIFIED:20250318T232412Z
UID:5114-1746547200-1746552600@www.orangecountyaudubonsociety.org
SUMMARY:Bird Walk at Heritage Trail & 6 1/2 Station Sanctuary
DESCRIPTION:Join Dr. Walter Jahn for a walk along the Heritage Trail at 6 1/2 Station Sanctuary; begin where 6 1/2 Station Road meets the Heritage Trail. \nTime TBA \nClick here for a map of the Heritage Trail at 6 1/2 Station Sanctuary Road
URL:https://www.orangecountyaudubonsociety.org/event/bird-walk-at-heritage-trail-6-1-2-station-sanctuary-2/
END:VEVENT
BEGIN:VEVENT
DTSTART;TZID=America/New_York:20250507T140000
DTEND;TZID=America/New_York:20250507T150000
DTSTAMP:20260425T143952
CREATED:20250117T230605Z
LAST-MODIFIED:20250117T230605Z
UID:5159-1746626400-1746630000@www.orangecountyaudubonsociety.org
SUMMARY:Bird Photography at Thrall Library
DESCRIPTION:This program is for new nature photographers who want to learn to take better photos. We will look at many beautiful photos and discuss composition\, lighting\, background and preparation. If you enjoy nature and like taking photographs this is the program for you.\n\nPresented by OCAS board member Diane Tuttle.\n\nClick here for a map of the Middletown Thrall Library
URL:https://www.orangecountyaudubonsociety.org/event/bird-photography-at-thrall-library-2/
END:VEVENT
BEGIN:VEVENT
DTSTART;TZID=America/New_York:20250511T100000
DTEND;TZID=America/New_York:20250511T113000
DTSTAMP:20260425T143952
CREATED:20250106T195914Z
LAST-MODIFIED:20250106T195914Z
UID:5122-1746957600-1746963000@www.orangecountyaudubonsociety.org
SUMMARY:Bashakill Bird Walk
DESCRIPTION:Dr. Walter Jahn will lead a bird walk from the boat launch on South Road across from Bashakill Vineyards. \nClick here for a map of the Bashakill Boat Launch
URL:https://www.orangecountyaudubonsociety.org/event/bashakill-bird-walk-3/
END:VEVENT
BEGIN:VEVENT
DTSTART;TZID=America/New_York:20250512T173000
DTEND;TZID=America/New_York:20250512T183000
DTSTAMP:20260425T143952
CREATED:20250106T200550Z
LAST-MODIFIED:20250106T200550Z
UID:5127-1747071000-1747074600@www.orangecountyaudubonsociety.org
SUMMARY:Bird Town Hall
DESCRIPTION:Dr. Walter Jahn moderates as attendees share stories\, pictures & questions about birds. Participants may join in person at the SUNY Orange Middletown campus\, Rowley Center room 128 or on Zoom at the following link: \nhttps://sunyorange.zoom.us/j/99172119712 \nClick here for a map of the SUNY Orange Rowley Center 
URL:https://www.orangecountyaudubonsociety.org/event/bird-town-hall-2/
END:VEVENT
BEGIN:VEVENT
DTSTART;TZID=America/New_York:20250530T180000
DTEND;TZID=America/New_York:20250530T190000
DTSTAMP:20260425T143952
CREATED:20250527T154049Z
LAST-MODIFIED:20250527T154049Z
UID:5249-1748628000-1748631600@www.orangecountyaudubonsociety.org
SUMMARY:Field Trip to Knapp's View
DESCRIPTION:Please join the Orange County Audubon Society and Chester Conservation Advisory Council for an evening walk at Knapp’s View on Friday\, May 30th at 6pm. \nBring your binoculars or spotting scopes\, and wear a good pair of walking shoes or boots as the paths tend to be muddy in places. \nIn recent days\, there have been sightings of bobolink\, Eastern meadowlark\, American Kestrel\, song sparrow\, hermit thrush\, Baltimore oriole\, Northern flicker\, and the occasional Bald eagle at Knapp’s View. \nAfter the walk\, join the group at Oceanè for dinner or drinks. \nClick here for a map of Knapp’s View \nFor information about the walk\, email eurekabooksandmore@gmail.com
URL:https://www.orangecountyaudubonsociety.org/event/field-trip-to-knapps-view-2/
END:VEVENT
END:VCALENDAR