BEGIN:VCALENDAR
VERSION:2.0
PRODID:-//Orange County Audubon Society - ECPv6.15.20//NONSGML v1.0//EN
CALSCALE:GREGORIAN
METHOD:PUBLISH
X-WR-CALNAME:Orange County Audubon Society
X-ORIGINAL-URL:https://www.orangecountyaudubonsociety.org
X-WR-CALDESC:Events for Orange County Audubon Society
REFRESH-INTERVAL;VALUE=DURATION:PT1H
X-Robots-Tag:noindex
X-PUBLISHED-TTL:PT1H
BEGIN:VTIMEZONE
TZID:America/New_York
BEGIN:DAYLIGHT
TZOFFSETFROM:-0500
TZOFFSETTO:-0400
TZNAME:EDT
DTSTART:20240310T070000
END:DAYLIGHT
BEGIN:STANDARD
TZOFFSETFROM:-0400
TZOFFSETTO:-0500
TZNAME:EST
DTSTART:20241103T060000
END:STANDARD
BEGIN:DAYLIGHT
TZOFFSETFROM:-0500
TZOFFSETTO:-0400
TZNAME:EDT
DTSTART:20250309T070000
END:DAYLIGHT
BEGIN:STANDARD
TZOFFSETFROM:-0400
TZOFFSETTO:-0500
TZNAME:EST
DTSTART:20251102T060000
END:STANDARD
BEGIN:DAYLIGHT
TZOFFSETFROM:-0500
TZOFFSETTO:-0400
TZNAME:EDT
DTSTART:20260308T070000
END:DAYLIGHT
BEGIN:STANDARD
TZOFFSETFROM:-0400
TZOFFSETTO:-0500
TZNAME:EST
DTSTART:20261101T060000
END:STANDARD
END:VTIMEZONE
BEGIN:VEVENT
DTSTART;TZID=America/New_York:20250806T170000
DTEND;TZID=America/New_York:20250806T180000
DTSTAMP:20260423T091428
CREATED:20250723T161328Z
LAST-MODIFIED:20250723T161432Z
UID:5259-1754499600-1754503200@www.orangecountyaudubonsociety.org
SUMMARY:Did you miss the National Audubon Leadership Conference in Montreal?
DESCRIPTION:You can join Dr. Walter Jahn\, Program Chair and Director at Large for Orange County Audubon Society at Mamakating Environmental Education Center  (From 6pm to 7pm) for a synopsis of the conference. \nThis is free and open to the public! \n Mamakating Environmental Education Center\, 762 South Rd.\, Wurtsboro NY
URL:https://www.orangecountyaudubonsociety.org/event/did-you-miss-the-national-audubon-leadership-conference-synopsis-in-montreal/
LOCATION:Mamakating Environmental Education Center\, 762 S Road\, Wurtsboro\, NY\, 12790\, United States
END:VEVENT
BEGIN:VEVENT
DTSTART;TZID=America/New_York:20250807T140000
DTEND;TZID=America/New_York:20250807T150000
DTSTAMP:20260423T091428
CREATED:20250723T192627Z
LAST-MODIFIED:20250723T192627Z
UID:5263-1754575200-1754578800@www.orangecountyaudubonsociety.org
SUMMARY:Kayak Tour with Walter Jahn
DESCRIPTION:Rent your kayak at MEEC\, then meet Walt at the South Rd Boat Launch (across from Bashakill Vineyards). Make sure you give yourself enough lead time so that you are ready to shove off at 2pm.
URL:https://www.orangecountyaudubonsociety.org/event/kayak-tour-with-walter-jahn/
END:VEVENT
BEGIN:VEVENT
DTSTART;TZID=America/New_York:20250825T173000
DTEND;TZID=America/New_York:20250825T183000
DTSTAMP:20260423T091428
CREATED:20250106T211325Z
LAST-MODIFIED:20250106T211355Z
UID:5129-1756143000-1756146600@www.orangecountyaudubonsociety.org
SUMMARY:Bird Introduction & Feathers - Type\, Structure\, Colors
DESCRIPTION:A presentation by Dr. Walter Jahn introducing birds\, the structure & function of feathers\, and the diverse pigments observed in birds. \nLectures can be attended in person at the SUNY Orange Middletown campus\, Rowley Center room 128\, or on Zoom at the following link: \nhttps://sunyorange.zoom.us/j/99172119712 \nClick here for a map of the SUNY Orange Rowley Center
URL:https://www.orangecountyaudubonsociety.org/event/bird-introduction-feathers-type-structure-colors/
END:VEVENT
END:VCALENDAR